BEGIN:VCALENDAR
VERSION:2.0
PRODID:-//GRETEL - ECPv6.15.18//NONSGML v1.0//EN
CALSCALE:GREGORIAN
METHOD:PUBLISH
X-WR-CALNAME:GRETEL
X-ORIGINAL-URL:https://gretelstudio.com
X-WR-CALDESC:Events for GRETEL
REFRESH-INTERVAL;VALUE=DURATION:PT1H
X-Robots-Tag:noindex
X-PUBLISHED-TTL:PT1H
BEGIN:VTIMEZONE
TZID:Europe/Berlin
BEGIN:DAYLIGHT
TZOFFSETFROM:+0100
TZOFFSETTO:+0200
TZNAME:CEST
DTSTART:20230326T010000
END:DAYLIGHT
BEGIN:STANDARD
TZOFFSETFROM:+0200
TZOFFSETTO:+0100
TZNAME:CET
DTSTART:20231029T010000
END:STANDARD
BEGIN:DAYLIGHT
TZOFFSETFROM:+0100
TZOFFSETTO:+0200
TZNAME:CEST
DTSTART:20240331T010000
END:DAYLIGHT
BEGIN:STANDARD
TZOFFSETFROM:+0200
TZOFFSETTO:+0100
TZNAME:CET
DTSTART:20241027T010000
END:STANDARD
BEGIN:DAYLIGHT
TZOFFSETFROM:+0100
TZOFFSETTO:+0200
TZNAME:CEST
DTSTART:20250330T010000
END:DAYLIGHT
BEGIN:STANDARD
TZOFFSETFROM:+0200
TZOFFSETTO:+0100
TZNAME:CET
DTSTART:20251026T010000
END:STANDARD
BEGIN:DAYLIGHT
TZOFFSETFROM:+0100
TZOFFSETTO:+0200
TZNAME:CEST
DTSTART:20260329T010000
END:DAYLIGHT
BEGIN:STANDARD
TZOFFSETFROM:+0200
TZOFFSETTO:+0100
TZNAME:CET
DTSTART:20261025T010000
END:STANDARD
END:VTIMEZONE
BEGIN:VEVENT
DTSTART;TZID=Europe/Berlin:20250401T190000
DTEND;TZID=Europe/Berlin:20250401T210000
DTSTAMP:20260420T183518
CREATED:20250204T133243Z
LAST-MODIFIED:20250318T120755Z
UID:5712-1743534000-1743541200@gretelstudio.com
SUMMARY:7x7 - Sieben Kreative in sieben Minuten
DESCRIPTION:Sieben Karlsruher Kreative haben sieben Minuten Zeit\, sich und ihr Unternehmen zu präsentieren. Folienpräsentation\, Rede\, Unplugged- Konzert oder kleine Show – alles ist erlaubt. So kreativ wie die Branche selbst ist\, verspricht auch der Abend zu werden. \n\n\n\nWer kreative Unternehmen kennen lernen möchte\, sich generell für Geschäftsmodelle und Ideenumsetzung von spannenden Unternehmen interessiert\, am Thema Kultur- und Kreativwirtschaft interessiert ist\, sich in Karlsruhe vernetzen oder einfach einen unterhaltsamen Abend genießen möchte\, ist herzlich eingeladen. Die Veranstaltung findet jährlich im Kulturzentrum Tollhaus statt. \n\n\n\n7×7 ist eine Kooperation zwischen dem K3-Büro\, dem ausgeschlachtet e. V. und dem Kulturzentrum Tollhaus.
URL:https://gretelstudio.com/event/7x7-sieben-kreative-in-sieben-minuten/
LOCATION:Kulturzentrum Tollhaus\, Alter Schlachthof 35\, Karlsruhe\, 76131\, Germany
CATEGORIES:Motion Design Talk
END:VEVENT
BEGIN:VEVENT
DTSTART;TZID=Europe/Berlin:20241128T190000
DTEND;TZID=Europe/Berlin:20241128T210000
DTSTAMP:20260420T183518
CREATED:20241119T172839Z
LAST-MODIFIED:20241119T173217Z
UID:5413-1732820400-1732827600@gretelstudio.com
SUMMARY:Designlese: Motion Design – Visuelle Identität in Bewegung!
DESCRIPTION:Swantje Wenz\, Gründerin des Motion-Design-Studios „GRETEL“\, beleuchtet in ihrem Vortrag\, wie sich Motion Design von einer Nischendisziplin der TV- und Filmbranche zu einem unverzichtbaren Werkzeug der visuellen Kommunikation entwickelt hat. Doch was macht Motion Design so besonders\, und welche Rolle spielt es in der Markenbildung? Wie trägt es dazu bei\, emotionale Verbindungen zu schaffen und die Wiedererkennung einer Marke zu stärken? \n\nIn der Veranstaltung geht Swantje Wenz auf die entscheidenden Faktoren ein\, die Motion Design so wirkungsvoll machen. Von der Konzeption bis zur Umsetzung – welche kreativen und strategischen Prozesse sind nötig\, um eine Marke durch bewegte Bilder in Szene zu setzen? Welche Rolle spielen neue Technologien wie KI-gestützte Bild- und Videogenerierung in der Weiterentwicklung dieser Disziplin? \n\nAnhand von Praxisbeispielen aus ihrer eigenen Arbeit und internationalen Projekten geht Swantje Wenz der Frage nach\, wie Motion Design die Markenidentität nachhaltig prägen kann. Wie können Marken mithilfe von animierten Kampagnen\, interaktiven Inhalten und Storytelling über verschiedene Plattformen hinweg ihre Botschaften transportieren? Welche Potenziale ergeben sich für Unternehmen\, und wie wird Motion Design in Zukunft die Grenzen des Möglichen erweitern? \n\nDie DESIGNLESE findet in der DESIGNBIBLIOTHEK des Design Center Baden-Württemberg statt. Die Teilnahme ist kostenlos. Die Raumkapazitäten sind begrenzt\, daher bitten wir Sie um eine verbindliche Online-Anmeldung! Die Sitzplätze werden nach der Reihenfolge der Anmeldungen vergeben. \n\nhttps://design-center.de/de/DESIGNLESE-Motion-Design-1776.html
URL:https://gretelstudio.com/event/designlese-motion-design-visuelle-identitat-in-bewegung/
LOCATION:76131
END:VEVENT
BEGIN:VEVENT
DTSTART;TZID=Europe/Berlin:20240924T120000
DTEND;TZID=Europe/Berlin:20240924T133000
DTSTAMP:20260420T183518
CREATED:20240710T072547Z
LAST-MODIFIED:20241119T085834Z
UID:5074-1727179200-1727184600@gretelstudio.com
SUMMARY:KI-Mittagspause für Kreativschaffende
DESCRIPTION: \n\nIm kommenden Vortrag am Dienstag\, den 24. September 2024\, bei der KI-Mittagspause für Kreativschaffende wird Swantje Wenz über Kontrolle und Zufall im kreativen Prozess mit Künstlicher Intelligenz sprechen.\n\nViele Kreativschaffende sind der Meinung\, dass KI nur dann nützlich ist\, wenn der Output kontrollierbar ist. Doch was passiert\, wenn wir den Zufall als wertvollen Teil des kreativen Prozesses anerkennen?\n\nSwantje Wenz wird beleuchten\, wie die Arbeit mit unvorhersehbaren Ergebnissen zu neuen\, aufregenden kreativen Möglichkeiten führen kann. „Als Designerin schätze ich die Kontrolle über meine Kreationen\, aber als Künstlerin experimentiere ich gerne mit dem Zufall und seinen überraschenden Ergebnissen.”\n\n 
URL:https://gretelstudio.com/event/kontrolle-und-zufall-im-kreativen-prozess/
LOCATION:FUX Festigungs- und Expansionszentrum\, 4.OG Seminaretage\, Alter Schlachthof 33\, Karlsruhe\, 76131\, Germany
CATEGORIES:KI Talk
END:VEVENT
BEGIN:VEVENT
DTSTART;TZID=Europe/Berlin:20240424T100000
DTEND;TZID=Europe/Berlin:20240424T140000
DTSTAMP:20260420T183518
CREATED:20240710T083520Z
LAST-MODIFIED:20241119T171816Z
UID:5108-1713952800-1713967200@gretelstudio.com
SUMMARY:KreativStart Workshop 1: Beyond Imagination: KI Jam Session
DESCRIPTION:Im Rahmen des KreativStart Kongresses finden jedes Jahr auch Workshops zur Vertiefung aktueller Themen statt. Workshop 1 mit Swantje Wenz richtet sich an alle\, die einen Einstieg in das Thema Bilderzeugung und Bildbearbeitung mit KI suchen.\n\nKann eine KI wirklich überzeugende visuelle Werke schaffen? Probiere es selbst aus! Dieser Workshop richtet sich an Neugierige und KI-Rookies – eine Gelegenheit\, zu experimentieren und mit KI in einen Dialog einzusteigen\, während wir eine kreative Jam Session mit Midjourney\, Stylar u.a. erleben.\n\nSwantje Wenz ist eine vielseitig begabte Künstlerin und Designerin mit über 20 Jahren internationaler Erfahrung. Als CEO\, Gründerin & Creative Director leitet sie GRETEL\, ihr Studio für Motion Design & Animation in Karlsruhe\, sowie RAUMWORKS\, ihr Atelier für Virtual Interior Design und exklusive Canvas Prints.\n\nBei ihrer Arbeit setzt sie auf eine Fusion von ‘handmade’ und ‘AI-assisted’ Ansätzen\, um bestmögliche Lösungen für ihre Kunden zu entwickeln. „Für mich ist KI weder eine Bedrohung noch ein Konkurrent\, sondern ein Partner – mein digitaler Assistent und kreativer Verbündeter. Unsere Zusammenarbeit betrachte ich als einen Dialog\, bei dem das Endergebnis unvorhersehbar und oft überraschend ist.“\n\nUm aktiv an unserer kreativen Jam Session teilzunehmen\, bringe am besten deinen Laptop mit. Keine Vorerfahrung erforderlich!
URL:https://gretelstudio.com/event/kreativstart-workshop-1-beyond-imagination-ki-jam-session/
LOCATION:FUX Festigungs- und Expansionszentrum\, 4.OG Seminaretage\, Alter Schlachthof 33\, Karlsruhe\, 76131\, Germany
CATEGORIES:KI Workshop
END:VEVENT
END:VCALENDAR